BEGIN:VCALENDAR
VERSION:2.0
PRODID:-//Competences InterMIFE - ECPv5.15.0//NONSGML v1.0//EN
CALSCALE:GREGORIAN
METHOD:PUBLISH
X-WR-CALNAME:Competences InterMIFE
X-ORIGINAL-URL:https://intermife.fr/intra
X-WR-CALDESC:évènements pour Competences InterMIFE
REFRESH-INTERVAL;VALUE=DURATION:PT1H
X-Robots-Tag:noindex
X-PUBLISHED-TTL:PT1H
BEGIN:VTIMEZONE
TZID:Europe/Paris
BEGIN:DAYLIGHT
TZOFFSETFROM:+0100
TZOFFSETTO:+0200
TZNAME:CEST
DTSTART:20200329T010000
END:DAYLIGHT
BEGIN:STANDARD
TZOFFSETFROM:+0200
TZOFFSETTO:+0100
TZNAME:CET
DTSTART:20201025T010000
END:STANDARD
END:VTIMEZONE
BEGIN:VEVENT
DTSTART;TZID=Europe/Paris:20201120T090000
DTEND;TZID=Europe/Paris:20201120T170000
DTSTAMP:20260426T052619
CREATED:20201009T064444Z
LAST-MODIFIED:20201009T072337Z
UID:611-1605862800-1605891600@intermife.fr
SUMMARY:Accompagnement des seniors
DESCRIPTION:Une session de formation animée par Emmanuel Maquet – inscription sur via compétences :  http://www.via-competences.fr/prao/se-professionnaliser/actions-de-formation-2020/accompagner-un-public-de-seniors-135147.kjsp \n 
URL:https://intermife.fr/intra/event/accompagnement-des-seniors/
LOCATION:MIFE LOIRE Sud Saint Etienne\, 8 Avenue Augustin Dupré\, Saint-Étienne\, 42000
CATEGORIES:SESSION PROFESSIONNALISATION
END:VEVENT
END:VCALENDAR