BEGIN:VCALENDAR
VERSION:2.0
PRODID:-//Competences InterMIFE - ECPv5.15.0//NONSGML v1.0//EN
CALSCALE:GREGORIAN
METHOD:PUBLISH
X-WR-CALNAME:Competences InterMIFE
X-ORIGINAL-URL:https://intermife.fr/intra
X-WR-CALDESC:évènements pour Competences InterMIFE
REFRESH-INTERVAL;VALUE=DURATION:PT1H
X-Robots-Tag:noindex
X-PUBLISHED-TTL:PT1H
BEGIN:VTIMEZONE
TZID:Europe/Paris
BEGIN:DAYLIGHT
TZOFFSETFROM:+0100
TZOFFSETTO:+0200
TZNAME:CEST
DTSTART:20210328T010000
END:DAYLIGHT
BEGIN:STANDARD
TZOFFSETFROM:+0200
TZOFFSETTO:+0100
TZNAME:CET
DTSTART:20211031T010000
END:STANDARD
END:VTIMEZONE
BEGIN:VEVENT
DTSTART;TZID=Europe/Paris:20211207T090000
DTEND;TZID=Europe/Paris:20211207T170000
DTSTAMP:20260421T160933
CREATED:20210122T125532Z
LAST-MODIFIED:20210122T125705Z
UID:833-1638867600-1638896400@intermife.fr
SUMMARY:Histoire de vie (via compétences) Jour 2
DESCRIPTION:Session sur 2 jours \nLien vers inscription
URL:https://intermife.fr/intra/event/histoire-de-vie-via-competences-jour-2/
LOCATION:MIFE LOIRE Sud Saint Etienne\, 8 Avenue Augustin Dupré\, Saint-Étienne\, 42000
CATEGORIES:SESSION PROFESSIONNALISATION
END:VEVENT
END:VCALENDAR